BEGIN:VCALENDAR
VERSION:2.0
PRODID:icalendar-ruby
CALSCALE:GREGORIAN
BEGIN:VEVENT
DTSTAMP:20260422T210743Z
UID:81a1ca97-ab52-452d-b522-471d9fb80d32
DTSTART:20260422T193000
DTEND:20260422T203000
DESCRIPTION:Ein Service von PROUDY.de. Mehr Informationen unter https://www
 .proudy.de/de/events/132959.
SUMMARY:Antrittskonzert Prof. Kristian Katzenberger\, Horn
END:VEVENT
END:VCALENDAR
