BEGIN:VCALENDAR
VERSION:2.0
PRODID:icalendar-ruby
CALSCALE:GREGORIAN
BEGIN:VEVENT
DTSTAMP:20260420T001844Z
UID:dfc4110f-0d78-4a09-af4e-52099d88e713
DTSTART:20260420T193000
DTEND:20260420T203000
DESCRIPTION:Ein Service von PROUDY.de. Mehr Informationen unter https://www
 .proudy.de/de/events/132968.
SUMMARY:Lena Gorelik: Alle meine Mütter
END:VEVENT
END:VCALENDAR
