BEGIN:VCALENDAR
VERSION:2.0
PRODID:icalendar-ruby
CALSCALE:GREGORIAN
BEGIN:VEVENT
DTSTAMP:20260423T143226Z
UID:f3085edf-11d2-4e50-b884-94dda3a856ce
DTSTART:20260423T193000
DTEND:20260423T203000
DESCRIPTION:Ein Service von PROUDY.de. Mehr Informationen unter https://www
 .proudy.de/de/events/132969.
SUMMARY:Welttag des Buches
END:VEVENT
END:VCALENDAR
