BEGIN:VCALENDAR
VERSION:2.0
PRODID:icalendar-ruby
CALSCALE:GREGORIAN
BEGIN:VEVENT
DTSTAMP:20260423T142947Z
UID:b81dd84b-0954-495b-a685-7716aec31044
DTSTART:20260423T180000
DTEND:20260423T190000
DESCRIPTION:Ein Service von PROUDY.de. Mehr Informationen unter https://www
 .proudy.de/de/events/132974.
SUMMARY:WeinFrühling
END:VEVENT
END:VCALENDAR
