BEGIN:VCALENDAR
VERSION:2.0
PRODID:icalendar-ruby
CALSCALE:GREGORIAN
BEGIN:VEVENT
DTSTAMP:20260422T213833Z
UID:c3602636-28ec-474e-973c-02a392fbcad8
DTSTART:20260422T183000
DTEND:20260422T193000
DESCRIPTION:Ein Service von PROUDY.de. Mehr Informationen unter https://www
 .proudy.de/de/events/133007.
SUMMARY:schlechte Zeiten\, schlechte Zeiten
END:VEVENT
END:VCALENDAR
