BEGIN:VCALENDAR
VERSION:2.0
PRODID:icalendar-ruby
CALSCALE:GREGORIAN
BEGIN:VEVENT
DTSTAMP:20260421T120745Z
UID:2af36fa9-dcb9-428d-9cdf-db3e52804097
DTSTART:20260421T100000
DTEND:20260421T110000
DESCRIPTION:Ein Service von PROUDY.de. Mehr Informationen unter https://www
 .proudy.de/de/events/133014.
SUMMARY:goEast – Festival des mittel- und osteuropäischen Films
END:VEVENT
END:VCALENDAR
