BEGIN:VCALENDAR
VERSION:2.0
PRODID:icalendar-ruby
CALSCALE:GREGORIAN
BEGIN:VEVENT
DTSTAMP:20260426T005359Z
UID:e5c4ceb7-8ac5-45fd-9319-13160e1ad0d3
DTSTART:20260426T100000
DTEND:20260426T110000
DESCRIPTION:Ein Service von PROUDY.de. Mehr Informationen unter https://www
 .proudy.de/de/events/133016.
SUMMARY:unique. Manufakturenmarkt
END:VEVENT
END:VCALENDAR
