BEGIN:VCALENDAR
VERSION:2.0
PRODID:icalendar-ruby
CALSCALE:GREGORIAN
BEGIN:VEVENT
DTSTAMP:20260421T134152Z
UID:7c64d923-f246-41ff-95d7-1b9084545f6d
DTSTART:20260421T190000
DTEND:20260421T200000
DESCRIPTION:Ein Service von PROUDY.de. Mehr Informationen unter https://www
 .proudy.de/de/events/133045.
SUMMARY:Hochbegabung – Risikofaktor oder Ressource?
END:VEVENT
END:VCALENDAR
