BEGIN:VCALENDAR
VERSION:2.0
PRODID:icalendar-ruby
CALSCALE:GREGORIAN
BEGIN:VEVENT
DTSTAMP:20260420T110821Z
UID:2b9199bc-be14-4067-ae76-dbb7008214d4
DTSTART:20260418T100000
DTEND:20260418T110000
DESCRIPTION:Ein Service von PROUDY.de. Mehr Informationen unter https://www
 .proudy.de/de/events/133055.
SUMMARY:Kill Bill: The Whole Bloody Affair
END:VEVENT
END:VCALENDAR
