BEGIN:VCALENDAR
VERSION:2.0
PRODID:icalendar-ruby
CALSCALE:GREGORIAN
BEGIN:VEVENT
DTSTAMP:20260426T005216Z
UID:d041ec8a-764e-4125-b297-996a62df77b9
DTSTART:20260425T230000
DTEND:20260426T000000
DESCRIPTION:Ein Service von PROUDY.de. Mehr Informationen unter https://www
 .proudy.de/de/events/133140.
SUMMARY:Quiet&Riot
END:VEVENT
END:VCALENDAR
