BEGIN:VCALENDAR
VERSION:2.0
PRODID:icalendar-ruby
CALSCALE:GREGORIAN
BEGIN:VEVENT
DTSTAMP:20260423T144410Z
UID:98e59e68-d5d6-491c-9b67-97ed7bb8ce4a
DTSTART:20260423T190000
DTEND:20260423T200000
DESCRIPTION:Ein Service von PROUDY.de. Mehr Informationen unter https://www
 .proudy.de/de/events/133317.
SUMMARY:Start your Semester - Frühlingsfest
END:VEVENT
END:VCALENDAR
