BEGIN:VCALENDAR
VERSION:2.0
PRODID:icalendar-ruby
CALSCALE:GREGORIAN
BEGIN:VEVENT
DTSTAMP:20260426T010027Z
UID:94ea8784-842e-49e3-a524-a8b36aee2e3d
DTSTART:20260425T230000
DTEND:20260426T000000
DESCRIPTION:Ein Service von PROUDY.de. Mehr Informationen unter https://www
 .proudy.de/de/events/56901.
SUMMARY:Fick dich ins Knie\, Melancholie!
END:VEVENT
END:VCALENDAR
