BEGIN:VCALENDAR
VERSION:2.0
PRODID:icalendar-ruby
CALSCALE:GREGORIAN
BEGIN:VEVENT
DTSTAMP:20260419T205440Z
UID:12de56c6-a2ae-42f5-b776-6c85cac26a8c
DTSTART:20260419T180000
DTEND:20260419T190000
DESCRIPTION:Ein Service von PROUDY.de. Mehr Informationen unter https://www
 .proudy.de/de/events/77323.
SUMMARY:Die Zauberflöte 
END:VEVENT
END:VCALENDAR
