BEGIN:VCALENDAR
VERSION:2.0
PRODID:icalendar-ruby
CALSCALE:GREGORIAN
BEGIN:VEVENT
DTSTAMP:20260422T212416Z
UID:bb5e9d59-7260-4269-859c-ffb02e20b206
DTSTART:20260422T190000
DTEND:20260422T200000
DESCRIPTION:Ein Service von PROUDY.de. Mehr Informationen unter https://www
 .proudy.de/de/events/83760.
SUMMARY:Kuehn Biergarten-Quiz
END:VEVENT
END:VCALENDAR
