BEGIN:VCALENDAR
VERSION:2.0
PRODID:icalendar-ruby
CALSCALE:GREGORIAN
BEGIN:VEVENT
DTSTAMP:20260419T210028Z
UID:0f59a1c9-79f5-4672-87fa-37dcf810bf7a
DTSTART:20260419T193000
DTEND:20260419T203000
DESCRIPTION:Ein Service von PROUDY.de. Mehr Informationen unter https://www
 .proudy.de/de/events/88812.
SUMMARY:Vollmund: La Dolce Vita
END:VEVENT
END:VCALENDAR
