BEGIN:VCALENDAR
VERSION:2.0
PRODID:icalendar-ruby
CALSCALE:GREGORIAN
BEGIN:VEVENT
DTSTAMP:20260424T143213Z
UID:037d9c77-c786-4d4b-8a0c-b676391ffa4f
DTSTART:20260424T190000
DTEND:20260424T200000
DESCRIPTION:Ein Service von PROUDY.de. Mehr Informationen unter https://www
 .proudy.de/de/events/96449.
SUMMARY:Gruppenabend 
END:VEVENT
END:VCALENDAR
